BEGIN:VCALENDAR
VERSION:2.0
PRODID:-//Settrington Parish Council//Meeting Calendar//EN
CALSCALE:GREGORIAN
METHOD:PUBLISH
BEGIN:VEVENT
UID:70172-20240513@settringtonparishcouncil.gov.uk
DTSTAMP:20260426T015934Z
DTSTART;VALUE=DATE:20240513
DTEND;VALUE=DATE:20240514
SUMMARY:Annual Parish Meeting &#8211\\; 13th May 2024
DESCRIPTION:Full Council Meeting\nView details: https://settringtonparishcouncil.gov.uk/meetings/annual-parish-meeting-13th-may-2024/
URL:https://settringtonparishcouncil.gov.uk/meetings/annual-parish-meeting-13th-may-2024/
END:VEVENT
END:VCALENDAR
