BEGIN:VCALENDAR
VERSION:2.0
PRODID:-//Settrington Parish Council//Meeting Calendar//EN
CALSCALE:GREGORIAN
METHOD:PUBLISH
BEGIN:VEVENT
UID:70571-20240422@settringtonparishcouncil.gov.uk
DTSTAMP:20260423T133605Z
DTSTART;VALUE=DATE:20240422
DTEND;VALUE=DATE:20240423
SUMMARY:Extraordinary Planning Meeting &#8211\\; 22nd April 2024
DESCRIPTION:Extraordinary Council Meeting\nView details: https://settringtonparishcouncil.gov.uk/meetings/extraordinary-planning-meeting-22nd-april-2024/
URL:https://settringtonparishcouncil.gov.uk/meetings/extraordinary-planning-meeting-22nd-april-2024/
END:VEVENT
END:VCALENDAR
