BEGIN:VCALENDAR
VERSION:2.0
PRODID:-//Settrington Parish Council//Meeting Calendar//EN
CALSCALE:GREGORIAN
METHOD:PUBLISH
BEGIN:VEVENT
UID:70582-20230310@settringtonparishcouncil.gov.uk
DTSTAMP:20260426T015908Z
DTSTART;VALUE=DATE:20230310
DTEND;VALUE=DATE:20230311
SUMMARY:Council Meeting &#8211\\; 10th March 2023
DESCRIPTION:Full Council Meeting\nView details: https://settringtonparishcouncil.gov.uk/meetings/council-meeting-10th-march-2023/
URL:https://settringtonparishcouncil.gov.uk/meetings/council-meeting-10th-march-2023/
END:VEVENT
END:VCALENDAR
