BEGIN:VCALENDAR
VERSION:2.0
PRODID:-//Settrington Parish Council//Meeting Calendar//EN
CALSCALE:GREGORIAN
METHOD:PUBLISH
BEGIN:VEVENT
UID:70584-20230510@settringtonparishcouncil.gov.uk
DTSTAMP:20260422T085708Z
DTSTART;VALUE=DATE:20230510
DTEND;VALUE=DATE:20230511
SUMMARY:Council Meeting &#8211\\; 10th May 2023
DESCRIPTION:Full Council Meeting\nView details: https://settringtonparishcouncil.gov.uk/meetings/council-meeting-10th-may-2023/
URL:https://settringtonparishcouncil.gov.uk/meetings/council-meeting-10th-may-2023/
END:VEVENT
END:VCALENDAR
