BEGIN:VCALENDAR
VERSION:2.0
PRODID:-//Settrington Parish Council//Meeting Calendar//EN
CALSCALE:GREGORIAN
METHOD:PUBLISH
BEGIN:VEVENT
UID:70586-20220511@settringtonparishcouncil.gov.uk
DTSTAMP:20260423T083845Z
DTSTART;VALUE=DATE:20220511
DTEND;VALUE=DATE:20220512
SUMMARY:Council Meeting &#8211\\; 11th May 2022
DESCRIPTION:Full Council Meeting\nView details: https://settringtonparishcouncil.gov.uk/meetings/council-meeting-11th-may-2022/
URL:https://settringtonparishcouncil.gov.uk/meetings/council-meeting-11th-may-2022/
END:VEVENT
END:VCALENDAR
