BEGIN:VCALENDAR
VERSION:2.0
PRODID:-//Settrington Parish Council//Meeting Calendar//EN
CALSCALE:GREGORIAN
METHOD:PUBLISH
BEGIN:VEVENT
UID:70598-20221121@settringtonparishcouncil.gov.uk
DTSTAMP:20260422T134625Z
DTSTART;VALUE=DATE:20221121
DTEND;VALUE=DATE:20221122
SUMMARY:Council Meeting &#8211\\; 21st November 2022
DESCRIPTION:Full Council Meeting\nView details: https://settringtonparishcouncil.gov.uk/meetings/council-meeting-21st-november-2022/
URL:https://settringtonparishcouncil.gov.uk/meetings/council-meeting-21st-november-2022/
END:VEVENT
END:VCALENDAR
