BEGIN:VCALENDAR
VERSION:2.0
PRODID:-//Settrington Parish Council//Meeting Calendar//EN
CALSCALE:GREGORIAN
METHOD:PUBLISH
BEGIN:VEVENT
UID:70600-20220923@settringtonparishcouncil.gov.uk
DTSTAMP:20260423T101712Z
DTSTART;VALUE=DATE:20220923
DTEND;VALUE=DATE:20220924
SUMMARY:Council Meeting &#8211\\; 23rd September 2022
DESCRIPTION:Full Council Meeting\nView details: https://settringtonparishcouncil.gov.uk/meetings/council-meeting-23rd-september-2022/
URL:https://settringtonparishcouncil.gov.uk/meetings/council-meeting-23rd-september-2022/
END:VEVENT
END:VCALENDAR
