BEGIN:VCALENDAR
VERSION:2.0
PRODID:-//Settrington Parish Council//Meeting Calendar//EN
CALSCALE:GREGORIAN
METHOD:PUBLISH
BEGIN:VEVENT
UID:70602-20220113@settringtonparishcouncil.gov.uk
DTSTAMP:20260423T120209Z
DTSTART;VALUE=DATE:20220113
DTEND;VALUE=DATE:20220114
SUMMARY:Councillor Gathering &#8211\\; 13th January 2022
DESCRIPTION:Full Council Meeting\nView details: https://settringtonparishcouncil.gov.uk/meetings/councillor-gathering-13th-january-2022/
URL:https://settringtonparishcouncil.gov.uk/meetings/councillor-gathering-13th-january-2022/
END:VEVENT
END:VCALENDAR
