BEGIN:VCALENDAR
VERSION:2.0
PRODID:-//Settrington Parish Council//Meeting Calendar//EN
CALSCALE:GREGORIAN
METHOD:PUBLISH
BEGIN:VEVENT
UID:70709-20241113@settringtonparishcouncil.gov.uk
DTSTAMP:20260426T000945Z
DTSTART;VALUE=DATE:20241113
DTEND;VALUE=DATE:20241114
SUMMARY:Council Meeting &#8211\\; 13 November 2024
DESCRIPTION:Full Council Meeting\nView details: https://settringtonparishcouncil.gov.uk/meetings/council-meeting-13-november-2024-r-2024-name-here/
URL:https://settringtonparishcouncil.gov.uk/meetings/council-meeting-13-november-2024-r-2024-name-here/
END:VEVENT
END:VCALENDAR
