BEGIN:VCALENDAR
VERSION:2.0
PRODID:-//Settrington Parish Council//Meeting Calendar//EN
CALSCALE:GREGORIAN
METHOD:PUBLISH
BEGIN:VEVENT
UID:70727-20230310@settringtonparishcouncil.gov.uk
DTSTAMP:20260422T102621Z
DTSTART;VALUE=DATE:20230310
DTEND;VALUE=DATE:20230311
SUMMARY:Ordinary Meeting -10 March 2023
DESCRIPTION:Full Council Meeting\nView details: https://settringtonparishcouncil.gov.uk/meetings/ordinary-meeting-10-march-2023/
URL:https://settringtonparishcouncil.gov.uk/meetings/ordinary-meeting-10-march-2023/
END:VEVENT
END:VCALENDAR
