BEGIN:VCALENDAR
VERSION:2.0
PRODID:-//Settrington Parish Council//Meeting Calendar//EN
CALSCALE:GREGORIAN
METHOD:PUBLISH
BEGIN:VEVENT
UID:70729-20230113@settringtonparishcouncil.gov.uk
DTSTAMP:20260422T120810Z
DTSTART;VALUE=DATE:20230113
DTEND;VALUE=DATE:20230114
SUMMARY:Ordinary Meeting -13 January 2023
DESCRIPTION:Full Council Meeting\nView details: https://settringtonparishcouncil.gov.uk/meetings/ordinary-meeting-13-january-2023/
URL:https://settringtonparishcouncil.gov.uk/meetings/ordinary-meeting-13-january-2023/
END:VEVENT
END:VCALENDAR
