BEGIN:VCALENDAR
VERSION:2.0
PRODID:-//Settrington Parish Council//Meeting Calendar//EN
CALSCALE:GREGORIAN
METHOD:PUBLISH
BEGIN:VEVENT
UID:70837-20240911@settringtonparishcouncil.gov.uk
DTSTAMP:20260422T120811Z
DTSTART;VALUE=DATE:20240911
DTEND;VALUE=DATE:20240912
SUMMARY:Council Meeting &#8211\\; 11th September 2024
DESCRIPTION:Full Council Meeting\nView details: https://settringtonparishcouncil.gov.uk/meetings/council-meeting-11th-september-2024-2/
URL:https://settringtonparishcouncil.gov.uk/meetings/council-meeting-11th-september-2024-2/
END:VEVENT
END:VCALENDAR
