BEGIN:VCALENDAR
VERSION:2.0
PRODID:-//Settrington Parish Council//Meeting Calendar//EN
CALSCALE:GREGORIAN
METHOD:PUBLISH
BEGIN:VEVENT
UID:70838-20240710@settringtonparishcouncil.gov.uk
DTSTAMP:20260422T134547Z
DTSTART;VALUE=DATE:20240710
DTEND;VALUE=DATE:20240711
SUMMARY:Council Meeting &#8211\\; 10th July 2024
DESCRIPTION:Full Council Meeting\nView details: https://settringtonparishcouncil.gov.uk/meetings/council-meeting-10th-july-2024-2/
URL:https://settringtonparishcouncil.gov.uk/meetings/council-meeting-10th-july-2024-2/
END:VEVENT
END:VCALENDAR
