BEGIN:VCALENDAR
VERSION:2.0
PRODID:-//Settrington Parish Council//Meeting Calendar//EN
CALSCALE:GREGORIAN
METHOD:PUBLISH
BEGIN:VEVENT
UID:70954-20250305@settringtonparishcouncil.gov.uk
DTSTAMP:20260422T085258Z
DTSTART;VALUE=DATE:20250305
DTEND;VALUE=DATE:20250306
SUMMARY:Ordinary Meeting 5 March 2025
DESCRIPTION:Full Council Meeting\nView details: https://settringtonparishcouncil.gov.uk/meetings/ordinary-meeting-5-march-2025/
URL:https://settringtonparishcouncil.gov.uk/meetings/ordinary-meeting-5-march-2025/
END:VEVENT
END:VCALENDAR
