BEGIN:VCALENDAR
VERSION:2.0
PRODID:-//Settrington Parish Council//Meeting Calendar//EN
CALSCALE:GREGORIAN
METHOD:PUBLISH
BEGIN:VEVENT
UID:71086-20250507@settringtonparishcouncil.gov.uk
DTSTAMP:20260425T224226Z
DTSTART;VALUE=DATE:20250507
DTEND;VALUE=DATE:20250508
SUMMARY:Agenda for Ordinary Meeting &#8211\\; 7 May 2025
DESCRIPTION:Full Council Meeting\nView details: https://settringtonparishcouncil.gov.uk/meetings/agenda-for-ordinary-meeting-7-may-2025/
URL:https://settringtonparishcouncil.gov.uk/meetings/agenda-for-ordinary-meeting-7-may-2025/
END:VEVENT
END:VCALENDAR
