BEGIN:VCALENDAR
VERSION:2.0
PRODID:-//Settrington Parish Council//Meeting Calendar//EN
CALSCALE:GREGORIAN
METHOD:PUBLISH
BEGIN:VEVENT
UID:71095-20250507@settringtonparishcouncil.gov.uk
DTSTAMP:20260421T083614Z
DTSTART;VALUE=DATE:20250507
DTEND;VALUE=DATE:20250508
SUMMARY:Annual Meeting 7 May 2025
DESCRIPTION:Annual Meeting Meeting\nView details: https://settringtonparishcouncil.gov.uk/meetings/annual-meeting-7-may-2025-2/
URL:https://settringtonparishcouncil.gov.uk/meetings/annual-meeting-7-may-2025-2/
END:VEVENT
END:VCALENDAR
