BEGIN:VCALENDAR
VERSION:2.0
PRODID:-//Settrington Parish Council//Meeting Calendar//EN
CALSCALE:GREGORIAN
METHOD:PUBLISH
BEGIN:VEVENT
UID:71146-20251112@settringtonparishcouncil.gov.uk
DTSTAMP:20260425T191326Z
DTSTART;VALUE=DATE:20251112
DTEND;VALUE=DATE:20251113
SUMMARY:12 November 2025 &#8211\\; Ordinary Meeting at 7 p.m. in the Village Hall
DESCRIPTION:Full Council Meeting\nView details: https://settringtonparishcouncil.gov.uk/meetings/ordinary-meeting-at-7-p-m-in-the-village-hall/
URL:https://settringtonparishcouncil.gov.uk/meetings/ordinary-meeting-at-7-p-m-in-the-village-hall/
END:VEVENT
END:VCALENDAR
