BEGIN:VCALENDAR
VERSION:2.0
PRODID:-//Settrington Parish Council//Meeting Calendar//EN
CALSCALE:GREGORIAN
METHOD:PUBLISH
BEGIN:VEVENT
UID:71190-20260114@settringtonparishcouncil.gov.uk
DTSTAMP:20260425T191050Z
DTSTART;VALUE=DATE:20260114
DTEND;VALUE=DATE:20260115
SUMMARY:14 January 2026 Ordinary Meeting at 7 p.m. in Village Hall
DESCRIPTION:Full Council Meeting\nView details: https://settringtonparishcouncil.gov.uk/meetings/14-january-2026-ordinary-meeting-at-7-p-m-in-village-hall/
URL:https://settringtonparishcouncil.gov.uk/meetings/14-january-2026-ordinary-meeting-at-7-p-m-in-village-hall/
END:VEVENT
END:VCALENDAR
