BEGIN:VCALENDAR
VERSION:2.0
PRODID:-//Settrington Parish Council//Meeting Calendar//EN
CALSCALE:GREGORIAN
METHOD:PUBLISH
BEGIN:VEVENT
UID:71227-20260114@settringtonparishcouncil.gov.uk
DTSTAMP:20260425T191417Z
DTSTART;VALUE=DATE:20260114
DTEND;VALUE=DATE:20260115
SUMMARY:Draft Minutes of 14 January 2026 Ordinary
DESCRIPTION:Full Council Meeting\nView details: https://settringtonparishcouncil.gov.uk/meetings/draft-minutes-of-14-january-2026-ordinary/
URL:https://settringtonparishcouncil.gov.uk/meetings/draft-minutes-of-14-january-2026-ordinary/
END:VEVENT
END:VCALENDAR
