BEGIN:VCALENDAR
VERSION:2.0
PRODID:-//Settrington Parish Council//Meeting Calendar//EN
CALSCALE:GREGORIAN
METHOD:PUBLISH
BEGIN:VEVENT
UID:71245-20260311@settringtonparishcouncil.gov.uk
DTSTAMP:20260425T190822Z
DTSTART;VALUE=DATE:20260311
DTEND;VALUE=DATE:20260312
SUMMARY:Ordinary Meeting 11 March 2026
DESCRIPTION:Full Council Meeting\nView details: https://settringtonparishcouncil.gov.uk/meetings/ordinary-meeting-11-march-2026-2/
URL:https://settringtonparishcouncil.gov.uk/meetings/ordinary-meeting-11-march-2026-2/
END:VEVENT
END:VCALENDAR
